BEGIN:VCALENDAR
VERSION:2.0
PRODID:Events Booking
BEGIN:VEVENT
UID:69e51d347deed
SUMMARY:S2 Ausdauer (Termine: 12)  
DESCRIPTION:
LOCATION:Bostelbeker Damm 2\, Hamburg\, 21079\, Deutschland
DTSTART:20260419T110000Z
DTEND:20260712T115000Z
DTSTAMP:20260321T095809Z
ORGANIZER;CN=Turn- und Schwimmverein Harburg-Wilhelmsburg von 1894 e.V. (Tu
 S Harburg e.V.):MAILTO:no-reply@schwimmschule-tus-harburg.de
GEO:53.474032;9.936369
X-APPLE-STRUCTURED-LOCATION;VALUE=URI;X-ADDRESS=Bostelbeker Damm 2\, Hambur
 g\, 21079\, Deutschland;X-APPLE-RADIUS=72;X-TITLE=Turn- und Schwimmverein 
 Harburg/ Wilhelmsburg von 1894 e.V.:53.474032;9.936369
END:VEVENT
END:VCALENDAR